BEGIN:VCALENDAR
VERSION:2.0
PRODID:-//Atlanta Historical Computing Society - ECPv6.15.20//NONSGML v1.0//EN
CALSCALE:GREGORIAN
METHOD:PUBLISH
X-WR-CALNAME:Atlanta Historical Computing Society
X-ORIGINAL-URL:https://www.atlhcs.org
X-WR-CALDESC:Events for Atlanta Historical Computing Society
REFRESH-INTERVAL;VALUE=DURATION:PT1H
X-Robots-Tag:noindex
X-PUBLISHED-TTL:PT1H
BEGIN:VTIMEZONE
TZID:America/New_York
BEGIN:DAYLIGHT
TZOFFSETFROM:-0500
TZOFFSETTO:-0400
TZNAME:EDT
DTSTART:20170312T070000
END:DAYLIGHT
BEGIN:STANDARD
TZOFFSETFROM:-0400
TZOFFSETTO:-0500
TZNAME:EST
DTSTART:20171105T060000
END:STANDARD
BEGIN:DAYLIGHT
TZOFFSETFROM:-0500
TZOFFSETTO:-0400
TZNAME:EDT
DTSTART:20180311T070000
END:DAYLIGHT
BEGIN:STANDARD
TZOFFSETFROM:-0400
TZOFFSETTO:-0500
TZNAME:EST
DTSTART:20181104T060000
END:STANDARD
BEGIN:DAYLIGHT
TZOFFSETFROM:-0500
TZOFFSETTO:-0400
TZNAME:EDT
DTSTART:20190310T070000
END:DAYLIGHT
BEGIN:STANDARD
TZOFFSETFROM:-0400
TZOFFSETTO:-0500
TZNAME:EST
DTSTART:20191103T060000
END:STANDARD
END:VTIMEZONE
BEGIN:VEVENT
DTSTART;TZID=America/New_York:20180421T100000
DTEND;TZID=America/New_York:20180421T190000
DTSTAMP:20260422T050412
CREATED:20180212T020355Z
LAST-MODIFIED:20180212T020619Z
UID:1462-1524304800-1524337200@www.atlhcs.org
SUMMARY:Vintage Computing Festival Southeast 6.0
DESCRIPTION:Join us for a public celebration of computer history and nostalgia on April 21 and 22 in Roswell\, GA! \nRead more at the Vintage Computer Festival Southeast 6.0 webpage.
URL:https://www.atlhcs.org/event/vintage-computing-festival-southeast-6-0/
LOCATION:Computer Museum of America\, 5000 Commerce Pkwy\, Roswell\, GA\, 30076\, United States
END:VEVENT
END:VCALENDAR