BEGIN:VCALENDAR
VERSION:2.0
PRODID:-//Atlanta Historical Computing Society - ECPv6.15.20//NONSGML v1.0//EN
CALSCALE:GREGORIAN
METHOD:PUBLISH
X-WR-CALNAME:Atlanta Historical Computing Society
X-ORIGINAL-URL:https://www.atlhcs.org
X-WR-CALDESC:Events for Atlanta Historical Computing Society
REFRESH-INTERVAL;VALUE=DURATION:PT1H
X-Robots-Tag:noindex
X-PUBLISHED-TTL:PT1H
BEGIN:VTIMEZONE
TZID:America/New_York
BEGIN:DAYLIGHT
TZOFFSETFROM:-0500
TZOFFSETTO:-0400
TZNAME:EDT
DTSTART:20170312T070000
END:DAYLIGHT
BEGIN:STANDARD
TZOFFSETFROM:-0400
TZOFFSETTO:-0500
TZNAME:EST
DTSTART:20171105T060000
END:STANDARD
BEGIN:DAYLIGHT
TZOFFSETFROM:-0500
TZOFFSETTO:-0400
TZNAME:EDT
DTSTART:20180311T070000
END:DAYLIGHT
BEGIN:STANDARD
TZOFFSETFROM:-0400
TZOFFSETTO:-0500
TZNAME:EST
DTSTART:20181104T060000
END:STANDARD
BEGIN:DAYLIGHT
TZOFFSETFROM:-0500
TZOFFSETTO:-0400
TZNAME:EDT
DTSTART:20190310T070000
END:DAYLIGHT
BEGIN:STANDARD
TZOFFSETFROM:-0400
TZOFFSETTO:-0500
TZNAME:EST
DTSTART:20191103T060000
END:STANDARD
END:VTIMEZONE
BEGIN:VEVENT
DTSTART;TZID=America/New_York:20181013T130000
DTEND;TZID=America/New_York:20181013T170000
DTSTAMP:20260421T203917
CREATED:20180929T162349Z
LAST-MODIFIED:20180929T165726Z
UID:1642-1539435600-1539450000@www.atlhcs.org
SUMMARY:Monthly Meeting - October 2018
DESCRIPTION:Come join us at our monthly meet-up! \nWe are still meeting at Christ the Lord Lutheran Church in Duluth\, GA while the museum continues it’s construction plans.  We meet in the community activities center on the west side of the building. \nThe agenda for the October has not yet been fully decided.  But it includes a tour/info session on our website and how to use it to add and update content! \nLooking forward to seeing everyone there!
URL:https://www.atlhcs.org/event/monthly-meeting-oct-2018/
LOCATION:Christ the Lord Lutheran Church\, 1001 Duluth Hwy\, Lawrenceville\, 30043\, United States
CATEGORIES:Monthly Meetings
END:VEVENT
END:VCALENDAR