BEGIN:VCALENDAR
VERSION:2.0
PRODID:-//Atlanta Historical Computing Society - ECPv6.15.20//NONSGML v1.0//EN
CALSCALE:GREGORIAN
METHOD:PUBLISH
X-ORIGINAL-URL:https://www.atlhcs.org
X-WR-CALDESC:Events for Atlanta Historical Computing Society
REFRESH-INTERVAL;VALUE=DURATION:PT1H
X-Robots-Tag:noindex
X-PUBLISHED-TTL:PT1H
BEGIN:VTIMEZONE
TZID:America/New_York
BEGIN:DAYLIGHT
TZOFFSETFROM:-0500
TZOFFSETTO:-0400
TZNAME:EDT
DTSTART:20190310T070000
END:DAYLIGHT
BEGIN:STANDARD
TZOFFSETFROM:-0400
TZOFFSETTO:-0500
TZNAME:EST
DTSTART:20191103T060000
END:STANDARD
BEGIN:DAYLIGHT
TZOFFSETFROM:-0500
TZOFFSETTO:-0400
TZNAME:EDT
DTSTART:20200308T070000
END:DAYLIGHT
BEGIN:STANDARD
TZOFFSETFROM:-0400
TZOFFSETTO:-0500
TZNAME:EST
DTSTART:20201101T060000
END:STANDARD
BEGIN:DAYLIGHT
TZOFFSETFROM:-0500
TZOFFSETTO:-0400
TZNAME:EDT
DTSTART:20210314T070000
END:DAYLIGHT
BEGIN:STANDARD
TZOFFSETFROM:-0400
TZOFFSETTO:-0500
TZNAME:EST
DTSTART:20211107T060000
END:STANDARD
BEGIN:DAYLIGHT
TZOFFSETFROM:-0500
TZOFFSETTO:-0400
TZNAME:EDT
DTSTART:20220313T070000
END:DAYLIGHT
BEGIN:STANDARD
TZOFFSETFROM:-0400
TZOFFSETTO:-0500
TZNAME:EST
DTSTART:20221106T060000
END:STANDARD
BEGIN:DAYLIGHT
TZOFFSETFROM:-0500
TZOFFSETTO:-0400
TZNAME:EDT
DTSTART:20230312T070000
END:DAYLIGHT
BEGIN:STANDARD
TZOFFSETFROM:-0400
TZOFFSETTO:-0500
TZNAME:EST
DTSTART:20231105T060000
END:STANDARD
BEGIN:DAYLIGHT
TZOFFSETFROM:-0500
TZOFFSETTO:-0400
TZNAME:EDT
DTSTART:20240310T070000
END:DAYLIGHT
BEGIN:STANDARD
TZOFFSETFROM:-0400
TZOFFSETTO:-0500
TZNAME:EST
DTSTART:20241103T060000
END:STANDARD
BEGIN:DAYLIGHT
TZOFFSETFROM:-0500
TZOFFSETTO:-0400
TZNAME:EDT
DTSTART:20250309T070000
END:DAYLIGHT
BEGIN:STANDARD
TZOFFSETFROM:-0400
TZOFFSETTO:-0500
TZNAME:EST
DTSTART:20251102T060000
END:STANDARD
BEGIN:DAYLIGHT
TZOFFSETFROM:-0500
TZOFFSETTO:-0400
TZNAME:EDT
DTSTART:20260308T070000
END:DAYLIGHT
BEGIN:STANDARD
TZOFFSETFROM:-0400
TZOFFSETTO:-0500
TZNAME:EST
DTSTART:20261101T060000
END:STANDARD
END:VTIMEZONE
BEGIN:VEVENT
DTSTART;TZID=America/New_York:20201212T130000
DTEND;TZID=America/New_York:20201212T170000
DTSTAMP:20260422T183251
CREATED:20191209T173432Z
LAST-MODIFIED:20191209T173432Z
UID:2098-1607778000-1607792400@www.atlhcs.org
SUMMARY:Monthly Meeting - December 2020 (Annual Holiday Potluck/Gaming Gathering)
DESCRIPTION:Come join us for our annual Holiday Potluck/Gaming Gathering! Bring your favorite entry\, side dish\, or dessert to share with everyone. And bring your favorite gaming console or computer and let the games begin! \nWe meet at Christ the Lord Lutheran Church (Duluth\, GA) in the community activities center on the west side of the building. \nLooking forward to seeing everyone there!
URL:https://www.atlhcs.org/event/monthly-meeting-december-2020-annual-holiday-potluck-gaming-gathering/
CATEGORIES:Monthly Meetings
END:VEVENT
BEGIN:VEVENT
DTSTART;TZID=America/New_York:20250208T130000
DTEND;TZID=America/New_York:20250208T170000
DTSTAMP:20260422T183251
CREATED:20250204T151609Z
LAST-MODIFIED:20250204T151609Z
UID:2420-1739019600-1739034000@www.atlhcs.org
SUMMARY:Monthly Meeting – February 2025
DESCRIPTION:
URL:https://www.atlhcs.org/event/monthly-meeting-february-2025/
LOCATION:Christ the Lord Lutheran Church\, 1001 Duluth Hwy\, Lawrenceville\, 30043\, United States
CATEGORIES:Monthly Meetings,VCFSE
END:VEVENT
BEGIN:VEVENT
DTSTART;TZID=America/New_York:20250308T130000
DTEND;TZID=America/New_York:20250308T170000
DTSTAMP:20260422T183251
CREATED:20250204T151800Z
LAST-MODIFIED:20250204T151800Z
UID:2422-1741438800-1741453200@www.atlhcs.org
SUMMARY:Monthly Meeting - March 2025
DESCRIPTION:
URL:https://www.atlhcs.org/event/monthly-meeting-march-2025/
LOCATION:Christ the Lord Lutheran Church\, 1001 Duluth Hwy\, Lawrenceville\, 30043\, United States
CATEGORIES:Monthly Meetings,VCFSE
END:VEVENT
BEGIN:VEVENT
DTSTART;TZID=America/New_York:20250412T130000
DTEND;TZID=America/New_York:20250412T170000
DTSTAMP:20260422T183251
CREATED:20250204T151859Z
LAST-MODIFIED:20250204T151859Z
UID:2424-1744462800-1744477200@www.atlhcs.org
SUMMARY:Monthly Meeting - April 2025
DESCRIPTION:
URL:https://www.atlhcs.org/event/monthly-meeting-april-2025/
LOCATION:Christ the Lord Lutheran Church\, 1001 Duluth Hwy\, Lawrenceville\, 30043\, United States
CATEGORIES:Monthly Meetings,VCFSE
END:VEVENT
BEGIN:VEVENT
DTSTART;TZID=America/New_York:20250510T130000
DTEND;TZID=America/New_York:20250510T170000
DTSTAMP:20260422T183251
CREATED:20250204T152006Z
LAST-MODIFIED:20250204T152006Z
UID:2426-1746882000-1746896400@www.atlhcs.org
SUMMARY:Monthly Meeting - May 2025
DESCRIPTION:
URL:https://www.atlhcs.org/event/monthly-meeting-may-2025/
LOCATION:Christ the Lord Lutheran Church\, 1001 Duluth Hwy\, Lawrenceville\, 30043\, United States
CATEGORIES:Monthly Meetings,VCFSE
END:VEVENT
BEGIN:VEVENT
DTSTART;TZID=America/New_York:20250614T130000
DTEND;TZID=America/New_York:20250614T170000
DTSTAMP:20260422T183251
CREATED:20250204T152057Z
LAST-MODIFIED:20250204T152057Z
UID:2428-1749906000-1749920400@www.atlhcs.org
SUMMARY:Monthly Meeting - June 2025
DESCRIPTION:
URL:https://www.atlhcs.org/event/monthly-meeting-june-2025/
LOCATION:Christ the Lord Lutheran Church\, 1001 Duluth Hwy\, Lawrenceville\, 30043\, United States
CATEGORIES:Monthly Meetings,VCFSE
END:VEVENT
BEGIN:VEVENT
DTSTART;TZID=America/New_York:20250620T150000
DTEND;TZID=America/New_York:20250622T160000
DTSTAMP:20260422T183251
CREATED:20250204T154156Z
LAST-MODIFIED:20250204T154807Z
UID:2442-1750431600-1750608000@www.atlhcs.org
SUMMARY:Vintage Computer Festival SouthEast 12.0
DESCRIPTION:
URL:https://www.atlhcs.org/event/vintage-computer-festival-southeast-12-0/
LOCATION:Atlanta\, GA – Marriott Renaissance Waverly\, 2450 Galleria Parkway\, Atlanta\, GA\, 30339\, United States
CATEGORIES:VCFSE
END:VEVENT
BEGIN:VEVENT
DTSTART;TZID=America/New_York:20250712T130000
DTEND;TZID=America/New_York:20250712T170000
DTSTAMP:20260422T183251
CREATED:20250204T152153Z
LAST-MODIFIED:20250204T152153Z
UID:2430-1752325200-1752339600@www.atlhcs.org
SUMMARY:Monthly Meeting - July 2025
DESCRIPTION:
URL:https://www.atlhcs.org/event/monthly-meeting-july-2025/
LOCATION:Christ the Lord Lutheran Church\, 1001 Duluth Hwy\, Lawrenceville\, 30043\, United States
CATEGORIES:Monthly Meetings,VCFSE
END:VEVENT
BEGIN:VEVENT
DTSTART;TZID=America/New_York:20250809T130000
DTEND;TZID=America/New_York:20250809T170000
DTSTAMP:20260422T183251
CREATED:20250204T152441Z
LAST-MODIFIED:20250204T152441Z
UID:2432-1754744400-1754758800@www.atlhcs.org
SUMMARY:Monthly Meeting - August 2025
DESCRIPTION:
URL:https://www.atlhcs.org/event/monthly-meeting-august-2025/
LOCATION:Christ the Lord Lutheran Church\, 1001 Duluth Hwy\, Lawrenceville\, 30043\, United States
CATEGORIES:Monthly Meetings,VCFSE
END:VEVENT
BEGIN:VEVENT
DTSTART;TZID=America/New_York:20250913T130000
DTEND;TZID=America/New_York:20250913T170000
DTSTAMP:20260422T183251
CREATED:20250204T152534Z
LAST-MODIFIED:20250204T152534Z
UID:2434-1757768400-1757782800@www.atlhcs.org
SUMMARY:Monthly Meeting - September 2025
DESCRIPTION:
URL:https://www.atlhcs.org/event/monthly-meeting-september-2025/
LOCATION:Christ the Lord Lutheran Church\, 1001 Duluth Hwy\, Lawrenceville\, 30043\, United States
CATEGORIES:Monthly Meetings,VCFSE
END:VEVENT
BEGIN:VEVENT
DTSTART;TZID=America/New_York:20251011T130000
DTEND;TZID=America/New_York:20251011T170000
DTSTAMP:20260422T183251
CREATED:20250204T152618Z
LAST-MODIFIED:20250204T152618Z
UID:2436-1760187600-1760202000@www.atlhcs.org
SUMMARY:Monthly Meeting - October 2025
DESCRIPTION:
URL:https://www.atlhcs.org/event/monthly-meeting-october-2025/
LOCATION:Christ the Lord Lutheran Church\, 1001 Duluth Hwy\, Lawrenceville\, 30043\, United States
CATEGORIES:Monthly Meetings
END:VEVENT
BEGIN:VEVENT
DTSTART;TZID=America/New_York:20251108T130000
DTEND;TZID=America/New_York:20251108T170000
DTSTAMP:20260422T183251
CREATED:20250204T152703Z
LAST-MODIFIED:20250204T152703Z
UID:2438-1762606800-1762621200@www.atlhcs.org
SUMMARY:Monthly Meeting - November 2025
DESCRIPTION:
URL:https://www.atlhcs.org/event/monthly-meeting-november-2025/
LOCATION:Christ the Lord Lutheran Church\, 1001 Duluth Hwy\, Lawrenceville\, 30043\, United States
CATEGORIES:Monthly Meetings,VCFSE
END:VEVENT
BEGIN:VEVENT
DTSTART;TZID=America/New_York:20251213T130000
DTEND;TZID=America/New_York:20251213T170000
DTSTAMP:20260422T183251
CREATED:20250204T152814Z
LAST-MODIFIED:20250204T154446Z
UID:2440-1765630800-1765645200@www.atlhcs.org
SUMMARY:Monthly Meeting – December 2025 (Annual Holiday Potluck/Gaming Gathering)
DESCRIPTION:
URL:https://www.atlhcs.org/event/monthly-meeting-december-2025-annual-holiday-potluck-gaming-gathering/
LOCATION:Christ the Lord Lutheran Church\, 1001 Duluth Hwy\, Lawrenceville\, 30043\, United States
CATEGORIES:Monthly Meetings,VCFSE
END:VEVENT
END:VCALENDAR