BEGIN:VCALENDAR
VERSION:2.0
PRODID:-//Atlanta Historical Computing Society - ECPv6.15.20//NONSGML v1.0//EN
CALSCALE:GREGORIAN
METHOD:PUBLISH
X-WR-CALNAME:Atlanta Historical Computing Society
X-ORIGINAL-URL:https://www.atlhcs.org
X-WR-CALDESC:Events for Atlanta Historical Computing Society
REFRESH-INTERVAL;VALUE=DURATION:PT1H
X-Robots-Tag:noindex
X-PUBLISHED-TTL:PT1H
BEGIN:VTIMEZONE
TZID:America/New_York
BEGIN:DAYLIGHT
TZOFFSETFROM:-0500
TZOFFSETTO:-0400
TZNAME:EDT
DTSTART:20160313T070000
END:DAYLIGHT
BEGIN:STANDARD
TZOFFSETFROM:-0400
TZOFFSETTO:-0500
TZNAME:EST
DTSTART:20161106T060000
END:STANDARD
BEGIN:DAYLIGHT
TZOFFSETFROM:-0500
TZOFFSETTO:-0400
TZNAME:EDT
DTSTART:20170312T070000
END:DAYLIGHT
BEGIN:STANDARD
TZOFFSETFROM:-0400
TZOFFSETTO:-0500
TZNAME:EST
DTSTART:20171105T060000
END:STANDARD
BEGIN:DAYLIGHT
TZOFFSETFROM:-0500
TZOFFSETTO:-0400
TZNAME:EDT
DTSTART:20180311T070000
END:DAYLIGHT
BEGIN:STANDARD
TZOFFSETFROM:-0400
TZOFFSETTO:-0500
TZNAME:EST
DTSTART:20181104T060000
END:STANDARD
END:VTIMEZONE
BEGIN:VEVENT
DTSTART;TZID=America/New_York:20171111T130000
DTEND;TZID=America/New_York:20171111T170000
DTSTAMP:20260420T074420
CREATED:20171106T210959Z
LAST-MODIFIED:20180929T165847Z
UID:1262-1510405200-1510419600@www.atlhcs.org
SUMMARY:Monthly Meeting - Nov 2017
DESCRIPTION:Come join us at our monthly meet-up! \nWe meet at the  future home of the Computer Museum of America.  The address is 5000 Commerce Pkwy\, Roswell GA\, 30076.  It was the old Burlington Coat Factory.  It is on the lower level\, go to the back of the building facing Commerce street.  The entrance we are to use is under the Roswell Town Center sign.  It is the same entrance for Whirlyball and War Games Laser Tag. Once you enter the building\, suite 5000 will be on your right. \nLooking forward to seeing everyone there!
URL:https://www.atlhcs.org/event/monthly-meeting-nov-2017/
LOCATION:Computer Museum of America\, 5000 Commerce Pkwy\, Roswell\, GA\, 30076\, United States
CATEGORIES:Monthly Meetings
END:VEVENT
END:VCALENDAR