BEGIN:VCALENDAR
VERSION:2.0
PRODID:-//Atlanta Historical Computing Society - ECPv6.15.20//NONSGML v1.0//EN
CALSCALE:GREGORIAN
METHOD:PUBLISH
X-ORIGINAL-URL:https://www.atlhcs.org
X-WR-CALDESC:Events for Atlanta Historical Computing Society
REFRESH-INTERVAL;VALUE=DURATION:PT1H
X-Robots-Tag:noindex
X-PUBLISHED-TTL:PT1H
BEGIN:VTIMEZONE
TZID:America/New_York
BEGIN:DAYLIGHT
TZOFFSETFROM:-0500
TZOFFSETTO:-0400
TZNAME:EDT
DTSTART:20180311T070000
END:DAYLIGHT
BEGIN:STANDARD
TZOFFSETFROM:-0400
TZOFFSETTO:-0500
TZNAME:EST
DTSTART:20181104T060000
END:STANDARD
BEGIN:DAYLIGHT
TZOFFSETFROM:-0500
TZOFFSETTO:-0400
TZNAME:EDT
DTSTART:20190310T070000
END:DAYLIGHT
BEGIN:STANDARD
TZOFFSETFROM:-0400
TZOFFSETTO:-0500
TZNAME:EST
DTSTART:20191103T060000
END:STANDARD
BEGIN:DAYLIGHT
TZOFFSETFROM:-0500
TZOFFSETTO:-0400
TZNAME:EDT
DTSTART:20200308T070000
END:DAYLIGHT
BEGIN:STANDARD
TZOFFSETFROM:-0400
TZOFFSETTO:-0500
TZNAME:EST
DTSTART:20201101T060000
END:STANDARD
END:VTIMEZONE
BEGIN:VEVENT
DTSTART;TZID=America/New_York:20190406T130000
DTEND;TZID=America/New_York:20190406T170000
DTSTAMP:20260421T101228
CREATED:20190311T151955Z
LAST-MODIFIED:20190311T153402Z
UID:1822-1554555600-1554570000@www.atlhcs.org
SUMMARY:Monthly Meeting - April 2019
DESCRIPTION:Come join us at our monthly meet-up! \nWe are still meeting at Christ the Lord Lutheran Church in Duluth\, GA while the museum continues it’s construction plans.  We meet in the community activities center on the west side of the building. \nWe will be discussing VCF Southeast 7.0 planning. \nLooking forward to seeing everyone there!
URL:https://www.atlhcs.org/event/monthly-meeting-april-2019/
LOCATION:Christ the Lord Lutheran Church\, 1001 Duluth Hwy\, Lawrenceville\, 30043\, United States
CATEGORIES:Monthly Meetings
END:VEVENT
BEGIN:VEVENT
DTSTART;TZID=America/New_York:20190427T100000
DTEND;TZID=America/New_York:20190427T190000
DTSTAMP:20260421T101228
CREATED:20190311T152759Z
LAST-MODIFIED:20190311T153033Z
UID:1825-1556359200-1556391600@www.atlhcs.org
SUMMARY:Vintage Computer Festival SouthEast 7.0
DESCRIPTION:Join us for a public celebration of computer history and nostalgia on April 27 and 28 in Roswell\, GA! \nRead more at the Vintage Computer Festival SouthEast 7.0 webpage.
URL:https://www.atlhcs.org/event/vintage-computer-festival-southeast-7-0/
LOCATION:GA
CATEGORIES:VCFSE
END:VEVENT
BEGIN:VEVENT
DTSTART;TZID=America/New_York:20190428T120000
DTEND;TZID=America/New_York:20190428T170000
DTSTAMP:20260421T101228
CREATED:20190311T152955Z
LAST-MODIFIED:20190311T152955Z
UID:1828-1556452800-1556470800@www.atlhcs.org
SUMMARY:Vintage Computer Festival SouthEast 7.0
DESCRIPTION:Join us for a public celebration of computer history and nostalgia on April 27 and 28 in Roswell\, GA! \nRead more at the Vintage Computer Festival SouthEast 7.0 webpage.
URL:https://www.atlhcs.org/event/vintage-computer-festival-southeast-7-0-2/
LOCATION:GA
CATEGORIES:VCFSE
END:VEVENT
END:VCALENDAR