BEGIN:VCALENDAR
VERSION:2.0
PRODID:-//Atlanta Historical Computing Society - ECPv6.15.20//NONSGML v1.0//EN
CALSCALE:GREGORIAN
METHOD:PUBLISH
X-ORIGINAL-URL:https://www.atlhcs.org
X-WR-CALDESC:Events for Atlanta Historical Computing Society
REFRESH-INTERVAL;VALUE=DURATION:PT1H
X-Robots-Tag:noindex
X-PUBLISHED-TTL:PT1H
BEGIN:VTIMEZONE
TZID:America/New_York
BEGIN:DAYLIGHT
TZOFFSETFROM:-0500
TZOFFSETTO:-0400
TZNAME:EDT
DTSTART:20180311T070000
END:DAYLIGHT
BEGIN:STANDARD
TZOFFSETFROM:-0400
TZOFFSETTO:-0500
TZNAME:EST
DTSTART:20181104T060000
END:STANDARD
BEGIN:DAYLIGHT
TZOFFSETFROM:-0500
TZOFFSETTO:-0400
TZNAME:EDT
DTSTART:20190310T070000
END:DAYLIGHT
BEGIN:STANDARD
TZOFFSETFROM:-0400
TZOFFSETTO:-0500
TZNAME:EST
DTSTART:20191103T060000
END:STANDARD
BEGIN:DAYLIGHT
TZOFFSETFROM:-0500
TZOFFSETTO:-0400
TZNAME:EDT
DTSTART:20200308T070000
END:DAYLIGHT
BEGIN:STANDARD
TZOFFSETFROM:-0400
TZOFFSETTO:-0500
TZNAME:EST
DTSTART:20201101T060000
END:STANDARD
END:VTIMEZONE
BEGIN:VEVENT
DTSTART;TZID=America/New_York:20191214T130000
DTEND;TZID=America/New_York:20191214T170000
DTSTAMP:20260421T215957
CREATED:20190410T014438Z
LAST-MODIFIED:20190603T185615Z
UID:1916-1576328400-1576342800@www.atlhcs.org
SUMMARY:Monthly Meeting - December 2019 (Annual Holiday Potluck/Gaming Gathering)
DESCRIPTION:Come join us for our annual Holiday Potluck/Gaming Gathering! Bring your favorite entry\, side dish\, or dessert to share with everyone. And bring your favorite gaming console or computer and let the games begin! \nWe meet at Christ the Lord Lutheran Church (Duluth\, GA) in the community activities center on the west side of the building. \nLooking forward to seeing everyone there!
URL:https://www.atlhcs.org/event/monthly-meeting-december-2019-annual-potluck-gaming-gathering/
LOCATION:GA
CATEGORIES:Monthly Meetings
END:VEVENT
END:VCALENDAR