BEGIN:VCALENDAR
VERSION:2.0
PRODID:-//Atlanta Historical Computing Society - ECPv6.15.20//NONSGML v1.0//EN
CALSCALE:GREGORIAN
METHOD:PUBLISH
X-ORIGINAL-URL:https://www.atlhcs.org
X-WR-CALDESC:Events for Atlanta Historical Computing Society
REFRESH-INTERVAL;VALUE=DURATION:PT1H
X-Robots-Tag:noindex
X-PUBLISHED-TTL:PT1H
BEGIN:VTIMEZONE
TZID:America/New_York
BEGIN:DAYLIGHT
TZOFFSETFROM:-0500
TZOFFSETTO:-0400
TZNAME:EDT
DTSTART:20190310T070000
END:DAYLIGHT
BEGIN:STANDARD
TZOFFSETFROM:-0400
TZOFFSETTO:-0500
TZNAME:EST
DTSTART:20191103T060000
END:STANDARD
BEGIN:DAYLIGHT
TZOFFSETFROM:-0500
TZOFFSETTO:-0400
TZNAME:EDT
DTSTART:20200308T070000
END:DAYLIGHT
BEGIN:STANDARD
TZOFFSETFROM:-0400
TZOFFSETTO:-0500
TZNAME:EST
DTSTART:20201101T060000
END:STANDARD
BEGIN:DAYLIGHT
TZOFFSETFROM:-0500
TZOFFSETTO:-0400
TZNAME:EDT
DTSTART:20210314T070000
END:DAYLIGHT
BEGIN:STANDARD
TZOFFSETFROM:-0400
TZOFFSETTO:-0500
TZNAME:EST
DTSTART:20211107T060000
END:STANDARD
END:VTIMEZONE
BEGIN:VEVENT
DTSTART;TZID=America/New_York:20200912T130000
DTEND;TZID=America/New_York:20200912T170000
DTSTAMP:20260423T001533
CREATED:20191209T172805Z
LAST-MODIFIED:20200714T133520Z
UID:2092-1599915600-1599930000@www.atlhcs.org
SUMMARY:Monthly Meeting - September 2020 - CANCELLED
DESCRIPTION:Unfortunately\, due to the ongoing global concern over the COVID-19 (novel coronavirus)\, there will be no meeting scheduled for this month. But check HERE for information about our weekly Virtual Socials!
URL:https://www.atlhcs.org/event/monthly-meeting-september-2020/
LOCATION:GA
CATEGORIES:Monthly Meetings
END:VEVENT
END:VCALENDAR